BEGIN:VCALENDAR
VERSION:2.0
PRODID:-//Land Transport Guru - ECPv6.15.20//NONSGML v1.0//EN
CALSCALE:GREGORIAN
METHOD:PUBLISH
X-WR-CALNAME:Land Transport Guru
X-ORIGINAL-URL:https://landtransportguru.net
X-WR-CALDESC:Events for Land Transport Guru
REFRESH-INTERVAL;VALUE=DURATION:PT1H
X-Robots-Tag:noindex
X-PUBLISHED-TTL:PT1H
BEGIN:VTIMEZONE
TZID:Asia/Shanghai
BEGIN:STANDARD
TZOFFSETFROM:+0800
TZOFFSETTO:+0800
TZNAME:CST
DTSTART:20250101T000000
END:STANDARD
END:VTIMEZONE
BEGIN:VEVENT
DTSTART;VALUE=DATE:20260412
DTEND;VALUE=DATE:20260414
DTSTAMP:20260426T082647
CREATED:20260409T112027Z
LAST-MODIFIED:20260409T112335Z
UID:149837-1775959200-1776045599@landtransportguru.net
SUMMARY:Route Amendment for Re-opening of PIE Exit 17D Slip Road
DESCRIPTION:From Sunday 12 April 2026\, SBS Transit Bus Services 132 & 156 towards Hougang Central Int & Buangkok Int respectively will resume plying the reinstated stretch of slip road at PIE Exit 17D and serve Bus Stop 51021 – Old Police Acad along Thomson Road. \n\nPublicity Poster\n        \n            \n            \n                \n                                            \n                                \n                                \n                                                                    \n                                        Publicity Poster for Re-opening of PIE Exit 17D Slip Road
URL:https://landtransportguru.net/event/route-amendment-nsc-pie-exit-17d-slip-rd-reopen/
CATEGORIES:Bus Service Changes
ATTACH;FMTTYPE=image/jpeg:https://landtransportguru.net/web/wp-content/uploads/2025/04/6078-132.jpg
END:VEVENT
END:VCALENDAR