BEGIN:VCALENDAR
VERSION:2.0
PRODID:-//Land Transport Guru - ECPv6.15.20//NONSGML v1.0//EN
CALSCALE:GREGORIAN
METHOD:PUBLISH
X-WR-CALNAME:Land Transport Guru
X-ORIGINAL-URL:https://landtransportguru.net
X-WR-CALDESC:Events for Land Transport Guru
REFRESH-INTERVAL;VALUE=DURATION:PT1H
X-Robots-Tag:noindex
X-PUBLISHED-TTL:PT1H
BEGIN:VTIMEZONE
TZID:Asia/Shanghai
BEGIN:STANDARD
TZOFFSETFROM:+0800
TZOFFSETTO:+0800
TZNAME:CST
DTSTART:20160101T000000
END:STANDARD
END:VTIMEZONE
BEGIN:VEVENT
DTSTART;VALUE=DATE:20181224
DTEND;VALUE=DATE:20181226
DTSTAMP:20260424T033023
CREATED:20181216T130344Z
LAST-MODIFIED:20181223T081143Z
UID:63242-1545616800-1545703199@landtransportguru.net
SUMMARY:New Short Trip Bus Service 142A
DESCRIPTION:From Monday\, 24 December 2018\, New SBS Transit Short Trip Bus Service 142A will be launched. Service 142A operates from Toa Payoh Interchange and ends at Upper Serangoon Road (Sant Ritz)\, via Potong Pasir Avenue 1 on Weekday AM Peak hours\, except Public Holidays. \nIn addition\, more trips will be added to Service 142 overall and there will be two special departures of Service 142 from Upper Serangoon Road (18 Woodsville) towards Toa Payoh Interchange via Potong Pasir Avenue 1 during peak hours on Weekdays. \n \n142AToa Payoh Int→ Sant Ritz52009 Toa Payoh Int B2  NS19 Lor 6 Toa Payoh\n52509 Aft HDB Hub Lor 6 Toa Payoh\n52329 Aft Lor 4 Toa Payoh Lor 6 Toa Payoh\n52081 Aft Blk 195 Jln Toa Payoh\n60081 St. Andrew's Village Jln Toa Payoh\n60201 18 Woodsville Upp S'goon Rd\n60261 Potong Pasir Stn Exit C NE10 Upp S'goon Rd\n61061 Blk 148 Potong Pasir Ave 1\n61009 Blk 122 Potong Pasir Ave 1\n61079 Blk 121 Potong Pasir Ave 1\n61101 Blk 120 Potong Pasir Ave 1\n61089 Bet Blks 138/144 Potong Pasir Ave 3\n61099 Potong Pasir CC Potong Pasir Ave 2\n61069 Potong Pasir Stn Exit A NE10 Potong Pasir Ave 1\n60269 Potong Pasir Stn Exit B NE10 Upp S'goon Rd\n60209 Sant Ritz Upp S'goon Rd\n\n		\nNote: \n\nService 142A buses depart from Toa Payoh Int before 7:20am\, and thereafter from 18 Woodsville\, Upper Serangoon Road after 7:20am on Weekdays.\n\n\nDeparture Timings / Operating Hours\nFrom 24 December 2018 \n\nShort Trip Service 142A: Toa Payoh Int → Potong Pasir Ave 1 → Upp Serangoon Rd (Sant Ritz)\nWeekdays (excluding Public Holidays): 0628hrs & 0644hrs\nService 142A Special Departure: Upp Serangoon Rd (18 Woodsville) → Potong Pasir Ave 1 → Upp Serangoon Rd (Sant Ritz)\nWeekdays (excluding Public Holidays): 0722hrs & 0749hrs\nService 142 Special Departure: Upp Serangoon Rd (18 Woodsville) → Potong Pasir Ave 1 → Toa Payoh Int\nWeekdays: 0705hrs\, 0816hrs\n\n\nOperator Poster\nShort Trip Service 142A Launch Poster\n 
URL:https://landtransportguru.net/event/new-short-trip-bus-service-142a/
CATEGORIES:New Bus Service
ATTACH;FMTTYPE=image/jpeg:https://landtransportguru.net/web/wp-content/uploads/2018/12/8800_142.jpg
END:VEVENT
BEGIN:VEVENT
DTSTART;VALUE=DATE:20181217
DTEND;VALUE=DATE:20181219
DTSTAMP:20260424T033023
CREATED:20181204T050010Z
LAST-MODIFIED:20181204T061146Z
UID:62915-1545012000-1545098399@landtransportguru.net
SUMMARY:Start of On-Demand Public Bus Trial for Joo Koon & Marina - Downtown Area
DESCRIPTION:On-Demand Public Bus trials for the Joo Koon and Marina – Downtown area will commence on 17 December 2018\, and end on 15 June 2019. \nThe trials will be taking place on Weekdays (Excluding Public Holidays) during off peak hours. \nDuring the trial operating hours\, Bus Services 253\, 255\, 257\, 400 & 402 will experience reduced bus frequency. \nMore Details: On-Demand Public Bus \n\n        \n            \n            \n                \n                                            \n                                \n                                \n                                                                    \n                                        On Demand Public Bus - LTA Poster                                    \n                                                                                            \n                        \n                                            \n                                \n                                \n                                                                    \n                                        On Demand Public Bus (Marina - Downtown) - LTA Poster                                    \n                                                                                                    \n                                                            \n                        \n                                            \n                                \n                                \n                                                                    \n                                        On Demand Public Bus (Joo Koon) - LTA Poster                                    \n                                                                                                    \n                                                            \n                        \n                                            \n                                \n                                \n                                                                    \n                                        Changes to Bus Frequency of Services 253\, 255 & 257 during On-Demand Public Bus Trials                                    \n                                                                                                    \n                                                            \n                        \n                                            \n                                \n                                \n                                                                    \n                                        Changes to Bus Frequency of Services 400 & 402 during On-Demand Public Bus Trials
URL:https://landtransportguru.net/event/start-of-on-demand-public-bus-trial-for-joo-koon-marina-downtown-area/
CATEGORIES:New Bus Service
ATTACH;FMTTYPE=image/jpeg:https://landtransportguru.net/web/wp-content/uploads/2017/03/Bus-Stock-Photo-4.jpg
END:VEVENT
BEGIN:VEVENT
DTSTART;VALUE=DATE:20181201
DTEND;VALUE=DATE:20181203
DTSTAMP:20260424T033023
CREATED:20181130T140036Z
LAST-MODIFIED:20181130T140244Z
UID:62734-1543629600-1543715999@landtransportguru.net
SUMMARY:Launch of new Transtar Cross-Border Bus Service TS6A
DESCRIPTION:Transtar Travel will officially launch its new cross-border route\, Bus Service TS6A\, between Malaysia (GP Sentral) and Singapore (Changi Airport / Tuas Link) on 1st December 2018. \n\nTranstar Cross-Border Bus TS6A
URL:https://landtransportguru.net/event/launch-of-new-transtar-cross-border-bus-service-ts6a/
CATEGORIES:New Bus Service
ATTACH;FMTTYPE=image/jpeg:https://landtransportguru.net/web/wp-content/uploads/2018/08/PC888A-TS6.jpg
END:VEVENT
BEGIN:VEVENT
DTSTART;VALUE=DATE:20181201
DTEND;VALUE=DATE:20181203
DTSTAMP:20260424T033023
CREATED:20181124T070013Z
LAST-MODIFIED:20181124T071357Z
UID:62491-1543629600-1543715999@landtransportguru.net
SUMMARY:Launch of new Causeway Link Bus Service CW7
DESCRIPTION:Causeway Link will officially launch its new cross-border route\, Bus Service CW7\, between Malaysia and Singapore on 1st December 2018. \n\nCauseway Link Bus Service CW7
URL:https://landtransportguru.net/event/launch-of-new-causeway-link-bus-service-cw7/
CATEGORIES:New Bus Service
ATTACH;FMTTYPE=image/jpeg:https://landtransportguru.net/web/wp-content/uploads/2018/11/Tuas-Pick-up-and-Drop-Off-Point-1.jpg
END:VEVENT
BEGIN:VEVENT
DTSTART;VALUE=DATE:20181125
DTEND;VALUE=DATE:20181127
DTSTAMP:20260424T033023
CREATED:20181108T130027Z
LAST-MODIFIED:20181109T141148Z
UID:61909-1543111200-1543197599@landtransportguru.net
SUMMARY:Launch of New Express Bus Service 167e
DESCRIPTION:New SMRT Express Bus Service 167e will be launched on Sunday\, 25 November 2018\, plying between Sembawang and Shenton Way / Anson Road throughout the day. \nIt passes through Chong Pang and Sembawang Road\, skipping sectors of Upper Thomson Road and Thomson Road via an express sector on SLE and CTE. The bus service only calls at selected bus stops along its parent route\, Bus Service 167. \n\nRoute Poster\nExpress 167e Launch Poster (Updated)
URL:https://landtransportguru.net/event/launch-of-new-express-bus-service-167e/
CATEGORIES:New Bus Service
ATTACH;FMTTYPE=image/jpeg:https://landtransportguru.net/web/wp-content/uploads/2018/07/SGBus-Stock-2.jpg
END:VEVENT
BEGIN:VEVENT
DTSTART;VALUE=DATE:20181119
DTEND;VALUE=DATE:20181121
DTSTAMP:20260424T033023
CREATED:20181107T140135Z
LAST-MODIFIED:20181111T071304Z
UID:61862-1542592800-1542679199@landtransportguru.net
SUMMARY:New Short Trip Bus Service 160A
DESCRIPTION:From Monday\, 19 November 2018\, New SBS Transit Short Trip Bus Service 160A will be launched. Service 160A operates from Jurong East Temporary Interchange and ends at Bukit Batok Road (Opp Dunearn Sec Sch) on Weekdays. In addition\, there will be special departures of Service 160 from Bukit Batok Road (Blk 402) towards Jurong East Temporary Interchange during peak hours on Weekdays. \n \n\n160A\n\nJurong East Temp Int → Opp Dunearn Sec Sch\n\n\n\n\n\n28009\nJurong East Temp Int\nJurong Gateway Rd\n\n\n28441\nSeventh-Day Advent Ch\nJurong East Ctrl\n\n\n28071\nBlk 105\nBoon Lay Way\n\n\n28081\nBlk 112\nBoon Lay Way\n\n\n28281\nParc Oasis\nJurong Town Hall Rd\n\n\n28291\nBlk 303\nJurong Town Hall Rd\n\n\n43459\nAft PIE\nBt Batok Rd\n\n\n43761\nOpp Dulwich Coll\nBt Batok Rd\n\n\n43751\nOpp Blk 443D\nBt Batok Rd\n\n\n43781\nOpp Blk 437A\nBt Batok Rd\n\n\n43771\nBef Bt Batok West Ave 2\nBt Batok Rd\n\n\n43671\nOpp Dunearn Sec Sch\nBt Batok Rd\n\n\n\n  \n\nDeparture Timings / Operating Hours\n\nShort Trip Service 160A: Jurong East Temp Int → Bukit Batok Rd (Opp Dunearn Sec Sch)\nWeekdays: 0605hrs – 1030hrs & 1555hrs – 2025hrs\nService 160 Special Departure: Bukit Batok Rd (Blk 402) → Jurong East Temp Int\nWeekdays: 0625hrs\, 0637hrs\, 0653hrs\, 0708hrs\, 0722hrs\, 0736hrs\, 0751hrs\, 0806hrs\, 0821hrs\, 0836hrs\, 0851hrs\, 0906hrs\, 0921hrs\, 0936hrs\, 0951hrs\, 1005hrs\, 1020hrs\, 1038hrs\, 1050hrs\, 1615hrs\, 1627hrs\, 1646hrs\, 1700hrs\, 1715hrs\, 1730hrs\, 1745hrs\, 1802hrs\, 1814hrs\, 1830hrs\, 1845hrs\, 1900hrs\, 1915hrs\, 1930hrs\, 1945hrs\, 2000hrs\, 2015hrs\, 2030hrs & 2043hrs\n\n\nOperator Poster\nShort Trip Service 160A Launch Poster\n  \n 
URL:https://landtransportguru.net/event/new-short-trip-bus-service-160a/
CATEGORIES:New Bus Service
ATTACH;FMTTYPE=image/jpeg:https://landtransportguru.net/web/wp-content/uploads/2017/04/8191-160.jpg
END:VEVENT
BEGIN:VEVENT
DTSTART;VALUE=DATE:20181029
DTEND;VALUE=DATE:20181031
DTSTAMP:20260424T033023
CREATED:20181008T000003Z
LAST-MODIFIED:20181107T164513Z
UID:60862-1540778400-1540864799@landtransportguru.net
SUMMARY:Introduction of New Short Trip Service 386A
DESCRIPTION:From Monday\, 29 October 2018\, new Go-Ahead Short Trip Bus Service 386A from Punggol Temp Int to Edgedale Plains (Blk 682A) will be introduced to operate on weekdays (excluding Public Holidays) from 5.00pm to 8.15pm. \n        \n            \n            \n                \n                                            \n                                \n                                \n                                                                    \n                                        Short Trip Bus Service 386A Launch Poster
URL:https://landtransportguru.net/event/introduction-of-new-short-trip-service-386a/
CATEGORIES:New Bus Service
ATTACH;FMTTYPE=image/jpeg:https://landtransportguru.net/web/wp-content/uploads/2018/11/6516_386A.jpg
END:VEVENT
BEGIN:VEVENT
DTSTART;VALUE=DATE:20181028
DTEND;VALUE=DATE:20181030
DTSTAMP:20260424T033023
CREATED:20181011T080113Z
LAST-MODIFIED:20181011T090539Z
UID:60981-1540692000-1540778399@landtransportguru.net
SUMMARY:Launch of New Express Bus Service 960e
DESCRIPTION:New SMRT Express Bus Service 960e will be launched on Sunday\, 28 October 2018\, plying between Woodlands and Marina Centre throughout the day. \nIt passes through Marsiling\, Stevens\, Newton\, Little India\, Bugis and Marina Centre\, skipping Woodlands Road and Bukit Panjang via an express sector on BKE and PIE. The bus service only calls at selected bus stops along its parent route\, Bus Service 960. \n\nRoute Poster\nExpress 960e Launch Poster\n  \n 
URL:https://landtransportguru.net/event/launch-of-new-express-bus-service-960e/
CATEGORIES:New Bus Service
ATTACH;FMTTYPE=image/jpeg:https://landtransportguru.net/web/wp-content/uploads/2016/09/1077-SMRT-stock.jpg
END:VEVENT
BEGIN:VEVENT
DTSTART;VALUE=DATE:20180930
DTEND;VALUE=DATE:20181002
DTSTAMP:20260424T033023
CREATED:20180914T153110Z
LAST-MODIFIED:20180914T162409Z
UID:59984-1538272800-1538359199@landtransportguru.net
SUMMARY:Route Extension of Service 991 to Choa Chu Kang with the Integration of Service 308
DESCRIPTION:From Sunday\, 30 September 2018\, SMRT Bus Service 991 will be extended to Choa Chu Kang Bus Interchange via Bukit Gombak MRT Station\, Brickland Road\, Keat Hong Link and Choa Chu Kang Ave 1. \nWhen Service 991 was launched in July 2018\, the service looped at Bukit Batok West Avenue 5 from Bukit Batok Bus Interchange\, as part of Bukit Batok West Avenue 5 between the junction with Bukit Batok West Avenue 9 and Bukit Batok West Avenue 2 was still under construction. \nNew Short-Trip Service 991B will also be introduced from 30 September 2018\, operating from Choa Chu Kang Bus Interchange and terminating at Choa Chu Kang Avenue 1 (Opp Choa Chu Kang Mkt) between 0018hrs and 0055hrs daily. \nA pair of bus stops along Brickland Road (Bus Stop 30109 – Opp Blk 485A & Bus Stop 30101 – Blk 485B) are slated as future bus stops. \nSMRT Buses MAN NL323F A22 (SG1713H) – Service 308\nWith the route extension of Service 991 to Choa Chu Kang incorporating part the SMRT Feeder Bus Service 308 route\, Service 308 between Choa Chu Kang and Keat Hong Link will be withdrawn. Commuters travelling to existing bus stops served by Service 308 can take alternative Services 172\, 983 and 991. \n\n        \n            \n            \n                \n                                            \n                                \n                                \n                                                                    \n                                        SMRT Buses Poster for Bus Service 991 Extension to Choa Chu Kang                                    \n                                                                                            \n                        \n                                            \n                                \n                                \n                                                                    \n                                        SMRT Buses Poster for Discontinuation of Bus Service 308                                    \n                                                                                                    \n                                                            \n                        \n                                    \n                \n                \n            \n\n            \n                \n            \n\n            \n                \n                                            \n                            \n                        \n                                            \n                            \n                        \n                                    \n            \n\n        \n        \n 
URL:https://landtransportguru.net/event/route-extension-of-service-991-to-choa-chu-kang-with-the-integration-of-service-308/
CATEGORIES:Bus Service Changes,New Bus Service
ATTACH;FMTTYPE=image/jpeg:https://landtransportguru.net/web/wp-content/uploads/2018/07/1754-991.jpg
END:VEVENT
BEGIN:VEVENT
DTSTART;VALUE=DATE:20180930
DTEND;VALUE=DATE:20181002
DTSTAMP:20260424T033023
CREATED:20180914T153030Z
LAST-MODIFIED:20180914T154254Z
UID:59978-1538272800-1538359199@landtransportguru.net
SUMMARY:Introduction of Short-Trip Service 983A
DESCRIPTION:From Sunday\, 30 September 2018\, new Short-Trip Service 983A will be introduced to provide connectivity to commuters returning to Choa Chu Kang Avenue 7 during the late night period from Choa Chu Kang Bus Interchange / MRT/LRT Station. \nBus Service 983A will operate daily from 0000hrs – 0055hrs at 15 – 20 minutes frequency\, after the last Service 983 departs Choa Chu Kang Bus Interchange at 2345hrs. \n\nSMRT Buses Poster for New Short-Trip Service 983A
URL:https://landtransportguru.net/event/introduction-of-short-trip-service-983a/
CATEGORIES:Bus Service Changes,New Bus Service
ATTACH;FMTTYPE=image/jpeg:https://landtransportguru.net/web/wp-content/uploads/2016/08/5047_983.jpg
END:VEVENT
BEGIN:VEVENT
DTSTART;VALUE=DATE:20180828
DTEND;VALUE=DATE:20180830
DTSTAMP:20260424T033023
CREATED:20180825T120041Z
LAST-MODIFIED:20180827T052238Z
UID:59425-1535421600-1535507999@landtransportguru.net
SUMMARY:Launch of Transtar Cross Border Service TS6
DESCRIPTION:From Tuesday\, 28 August 2018\, Transtar Cross-Border Bus Service TS6 will commence service between Buona Vista MRT station and Gelang Patah Sentral\, via the Second Link.
URL:https://landtransportguru.net/event/launch-of-transtar-cross-border-service-ts6/
CATEGORIES:New Bus Service
ATTACH;FMTTYPE=image/jpeg:https://landtransportguru.net/web/wp-content/uploads/2018/01/PC888A-TS3-side.jpg
END:VEVENT
BEGIN:VEVENT
DTSTART;VALUE=DATE:20180708
DTEND;VALUE=DATE:20180710
DTSTAMP:20260424T033023
CREATED:20180623T040015Z
LAST-MODIFIED:20180624T161423Z
UID:56897-1531015200-1531101599@landtransportguru.net
SUMMARY:Launch of SMRT Bus Service 991 & Tower Transit Feeder 941 Amendment
DESCRIPTION:New SMRT Bus Service 991 will be launched on Sunday\, 8 July 2018. \nOn the same day\, Tower Transit Feeder Bus Service 941 will be amended to loop at Bukit Batok West Avenue 9\, skipping 4 Bus Stops along Bukit Batok West Ave 3\, Bukit Batok Street 11 & Bukit Batok West Ave 6. \nFind out more here \n\n        \n            \n            \n                \n                                            \n                                \n                                \n                                                                    \n                                        Service 941 - July 2018 Amendment                                    \n                                                                                            \n                        \n                                            \n                                \n                                \n                                                                    \n                                        Service 991 - Launch Poster
URL:https://landtransportguru.net/event/enhanced-bus-accessibility-for-bukit-batok-jul-2018/
CATEGORIES:Bus Service Changes,New Bus Service
END:VEVENT
BEGIN:VEVENT
DTSTART;VALUE=DATE:20180527
DTEND;VALUE=DATE:20180529
DTSTAMP:20260424T033023
CREATED:20180516T070007Z
LAST-MODIFIED:20180527T064404Z
UID:55637-1527386400-1527472799@landtransportguru.net
SUMMARY:Launch of New Bus Service 851e
DESCRIPTION:New SBS Transit Express Bus Service 851e will be launched on Sunday\, 27 May 2018\, plying between Yishun and Outram Park (Opp Pearl’s Centre / Pearl’s Centre) throughout the day. It will not call directly outside Outram Park MRT Station along Outram Road. \nIt passes through Khatib\, Ang Mo Kio\, Little India\, Bugis and Chinatown\, skipping Lentor\, Marymount and Thomson via an express sector on Lentor Avenue and CTE. The bus service only calls at selected bus stops along its parent route\, Bus Service 851. \n\nRoute Poster\n  \nService 851e Route Launch Poster\n  \n 
URL:https://landtransportguru.net/event/launch-of-new-bus-service-851e/
CATEGORIES:New Bus Service
ATTACH;FMTTYPE=image/jpeg:https://landtransportguru.net/web/wp-content/uploads/2018/05/5921_851e-2.jpg
END:VEVENT
BEGIN:VEVENT
DTSTART;VALUE=DATE:20180414
DTEND;VALUE=DATE:20180416
DTSTAMP:20260424T033023
CREATED:20180412T130058Z
LAST-MODIFIED:20180414T053708Z
UID:54503-1523671200-1523757599@landtransportguru.net
SUMMARY:New Shuttle Services from Tanjong Rhu / Meyer Road & Bayshore to Parkway Parade
DESCRIPTION:From Saturday\, 14 April 2018\, 2 new Parkway Parade Shuttle Bus Services will be launched. \n\nRoute 3: Tanjong Rhu / Meyer Road ↔ Parkway Parade\nRoute 4: Bayshore ↔ Parkway Parade\n\nOperating only on Saturdays\, Sundays & Public Holidays\, the new routes will provide residents living in the Tanjong Rhu\, Meyer\, and Bayshore area a free and direct commute to Parkway Parade Shopping Centre. \nMore details at: Parkway Parade Shuttle Bus Services
URL:https://landtransportguru.net/event/parkway-parade-new-shuttle-tg-rhu-bayshore/
LOCATION:Parkway Parade\, 80 Marine Parade Road\, 449269\, Singapore
CATEGORIES:New Bus Service
ATTACH;FMTTYPE=image/jpeg:https://landtransportguru.net/web/wp-content/uploads/2017/04/Parkway-Parade-Shuttle-Bus-Apr17-1.jpg
END:VEVENT
BEGIN:VEVENT
DTSTART;VALUE=DATE:20180408
DTEND;VALUE=DATE:20180410
DTSTAMP:20260424T033023
CREATED:20180323T113023Z
LAST-MODIFIED:20180402T073736Z
UID:53862-1523152800-1523239199@landtransportguru.net
SUMMARY:New Bus Service 974 to Serve Bukit Panjang\, Choa Chu Kang\, Jurong West and Joo Koon
DESCRIPTION:SINGAPORE\, 23 March 2018 – A new bus service – Service 974 – will begin operations on Sunday\, 8 April 2018\, plying between Bukit Panjang MRT Station and Joo Koon Bus Interchange via Choa Chu Kang and Jurong West.  \n2. Service 974 will enhance inter-town connectivity and provide Bukit Panjang and Choa Chu Kang residents with access to existing bus services plying Nanyang Technological University and Jurong Industrial Estate. It will also enhance connectivity in the west by linking Bukit Panjang Station (Downtown Line) and Choa Chu Kang Station (North-South Line) to Boon Lay\, Pioneer and Joo Koon Stations (East-West Line).  \n3. Service 974 will operate daily from 5:45am to 11:30pm. The attached Annex provides more details on the route and bus stops which Service 974 will be calling at. \nService 974: Launch poster
URL:https://landtransportguru.net/event/launch-of-tower-transit-bus-service-974/
CATEGORIES:New Bus Service
ATTACH;FMTTYPE=image/jpeg:https://landtransportguru.net/web/wp-content/uploads/2018/01/5007-Tower-Transit-1.jpg
END:VEVENT
BEGIN:VEVENT
DTSTART;VALUE=DATE:20180401
DTEND;VALUE=DATE:20180403
DTSTAMP:20260424T033023
CREATED:20180319T010039Z
LAST-MODIFIED:20180401T065105Z
UID:53445-1522548000-1522645199@landtransportguru.net
SUMMARY:Launch of Go-Ahead Bus Service 68
DESCRIPTION:On Sunday\, 01 April 2018\, Go-Ahead Bus Service 68 plying from Pasir Ris Interchange to Tampines Bus Interchange will be launched. \nMore details at our Service 68 write up here. \nService 68 Route Launch Poster
URL:https://landtransportguru.net/event/launch-of-go-ahead-bus-service-68/
CATEGORIES:New Bus Service
ATTACH;FMTTYPE=image/jpeg:https://landtransportguru.net/web/wp-content/uploads/2018/04/6401-68.jpg
END:VEVENT
BEGIN:VEVENT
DTSTART;VALUE=DATE:20180312
DTEND;VALUE=DATE:20180314
DTSTAMP:20260424T033023
CREATED:20180306T000035Z
LAST-MODIFIED:20180311T150043Z
UID:52859-1520820000-1520917199@landtransportguru.net
SUMMARY:Launch of Go-Ahead Short Trip Service 2A
DESCRIPTION:From Monday\, 12 March 2018\, Go-Ahead Short Trip Bus Service 2A will be introduced to complement Service 2. Service 2A will operate on weekdays (excluding Public Holidays) from 6.21am to 8.07am and 4.55pm to 6.53pm. The short-trip bus service will ply between Kampong Bahru Bus Terminal and the bus stop outside Tanah Merah Station Exit B. \nService 2A operates at 18 – 26 min & 17 – 20 min frequencies during AM & PM Peak respectively. \nGo-Ahead Service 2A poster
URL:https://landtransportguru.net/event/launch-of-go-ahead-short-trip-service-2a/
CATEGORIES:New Bus Service
ATTACH;FMTTYPE=image/jpeg:https://landtransportguru.net/web/wp-content/uploads/2016/11/5070-2.jpg
END:VEVENT
BEGIN:VEVENT
DTSTART;VALUE=DATE:20180303
DTEND;VALUE=DATE:20180305
DTSTAMP:20260424T033023
CREATED:20180217T114529Z
LAST-MODIFIED:20180217T114529Z
UID:52160-1520042400-1520139599@landtransportguru.net
SUMMARY:Launch of Changi City Point—Flora Drive Shuttle
DESCRIPTION:From 3 Mar 2018\, a Free Shuttle Bus Service between Changi City Point—Flora Drive will be launched. \nThe route operates on Weekends & Public Holidays at 30-minute intervals. Buses depart Changi City Point from 11:30am to 9:00pm. \nMain Article: Changi City Point Free Shuttle Bus Services
URL:https://landtransportguru.net/event/launch-of-changi-city-point-flora-drive-shuttle/
LOCATION:Changi City Point\, 5 Changi Business Park Central 1\, 486038\, Singapore
CATEGORIES:New Bus Service
END:VEVENT
BEGIN:VEVENT
DTSTART;VALUE=DATE:20180225
DTEND;VALUE=DATE:20180227
DTSTAMP:20260424T033023
CREATED:20180218T100037Z
LAST-MODIFIED:20180219T141400Z
UID:52189-1519524000-1519621199@landtransportguru.net
SUMMARY:Launch of Short Trip Services 7A & 7B
DESCRIPTION:On 25 February 2018\, SBS Transit Bus Services 7A & 7B will be launched. \nThe Short-Trip Services operates as follows: \n\nService 7A: Bedok Int → Orchard Blvd (Bef Orchard Stn Exit B)\nWeekdays: 0600hrs – 2245hrs\nSaturdays\, Sundays & Public Holidays: 0600hrs – 2230hrs\nService 7B: Clementi Int → Orchard Road (Dhoby Ghaut Stn)\nWeekdays: 0600hrs – 2250hrs\nSaturdays\, Sundays & Public Holidays: 0600hrs – 2235hrs\n\n\n        \n            \n            \n                \n                                            \n                                \n                                \n                                                                    \n                                        Short-Trip Service 7A & 7B Poster
URL:https://landtransportguru.net/event/launch-of-short-trip-services-7a-7b/
CATEGORIES:New Bus Service
ATTACH;FMTTYPE=image/jpeg:https://landtransportguru.net/web/wp-content/uploads/2017/05/7777-7.jpg
END:VEVENT
BEGIN:VEVENT
DTSTART;VALUE=DATE:20180128
DTEND;VALUE=DATE:20180130
DTSTAMP:20260424T033023
CREATED:20180117T134712Z
LAST-MODIFIED:20180118T140339Z
UID:50914-1517104800-1517201999@landtransportguru.net
SUMMARY:Launch of Limited Stop Express Bus Services 12e & 147e
DESCRIPTION:2 New Daily Limited-Stop Bus Services will be launched on Sunday\, 28 January 2018. \n\n\n\nService\nOperator\nRoute\n\n\n12e\nGo-Ahead Singapore\n(Go Ahead Loyang Pte Ltd)\nPasir Ris ↔ New Bridge Road\n\n\n147e\nSBS Transit\n(SBS Transit Ltd)\nClementi ↔ Clarke Quay
URL:https://landtransportguru.net/event/launch-service-12e-147e/
CATEGORIES:New Bus Service
END:VEVENT
BEGIN:VEVENT
DTSTART;VALUE=DATE:20180122
DTEND;VALUE=DATE:20180124
DTSTAMP:20260424T033023
CREATED:20171207T062149Z
LAST-MODIFIED:20180110T094823Z
UID:49179-1516586400-1516683599@landtransportguru.net
SUMMARY:Launch of Transtar Cross Border Bus Service TS3: Johor Bahru - Marina Square
DESCRIPTION:Launch of Transtar Cross Border Bus Service TS3: Johor Bahru – Marina Square
URL:https://landtransportguru.net/event/launch-of-transtar-cross-border-bus-service-ts3-johor-bahru-marina-square/
CATEGORIES:New Bus Service
END:VEVENT
BEGIN:VEVENT
DTSTART;VALUE=DATE:20171209
DTEND;VALUE=DATE:20171210
DTSTAMP:20260424T033023
CREATED:20171122T142650Z
LAST-MODIFIED:20171122T163300Z
UID:48654-1512784800-1512863999@landtransportguru.net
SUMMARY:Launch of SBS Transit Bus Service 71
DESCRIPTION:
URL:https://landtransportguru.net/event/launch-of-sbs-transit-bus-service-71/
CATEGORIES:New Bus Service
ATTACH;FMTTYPE=image/jpeg:https://landtransportguru.net/web/wp-content/uploads/2016/12/SGBus-Stock.jpg
END:VEVENT
END:VCALENDAR