BEGIN:VCALENDAR
VERSION:2.0
PRODID:-//Land Transport Guru - ECPv6.15.20//NONSGML v1.0//EN
CALSCALE:GREGORIAN
METHOD:PUBLISH
X-WR-CALNAME:Land Transport Guru
X-ORIGINAL-URL:https://landtransportguru.net
X-WR-CALDESC:Events for Land Transport Guru
REFRESH-INTERVAL;VALUE=DURATION:PT1H
X-Robots-Tag:noindex
X-PUBLISHED-TTL:PT1H
BEGIN:VTIMEZONE
TZID:Asia/Shanghai
BEGIN:STANDARD
TZOFFSETFROM:+0800
TZOFFSETTO:+0800
TZNAME:CST
DTSTART:20170101T000000
END:STANDARD
END:VTIMEZONE
BEGIN:VEVENT
DTSTART;VALUE=DATE:20181223
DTEND;VALUE=DATE:20181225
DTSTAMP:20260420T192110
CREATED:20181216T130134Z
LAST-MODIFIED:20181223T045625Z
UID:63236-1545530400-1545616799@landtransportguru.net
SUMMARY:New Bus Stop for Services 101 & 329 along Buangkok Link
DESCRIPTION:From Sunday\, 23 December 2018\, Bus Services 101 & 329 will serve a new Bus Stop along Buangkok Link. \n\n\n\nNew Bus Stop from 23 December 2018\n\n\nRoad Name\nBS Code\nBus Stop Description\nBus Service\n\nDestination\n\n\nBuangkok Link\n66559\nOpp Blk 984A\n101\nSerangoon\n\n\n329\nHougang Central\n\n\n\n  \n\nOperator Poster\nNew Bus Stop along Buangkok Link for Bus Services 101 & 329
URL:https://landtransportguru.net/event/new-bus-stop-for-services-101-329-along-buangkok-link/
CATEGORIES:New Bus Stops
ATTACH;FMTTYPE=image/jpeg:https://landtransportguru.net/web/wp-content/uploads/2017/07/6591-329-Buangkok-Cres.jpg
END:VEVENT
BEGIN:VEVENT
DTSTART;VALUE=DATE:20181223
DTEND;VALUE=DATE:20181225
DTSTAMP:20260420T192110
CREATED:20181220T010016Z
LAST-MODIFIED:20181221T002406Z
UID:63574-1545530400-1545616799@landtransportguru.net
SUMMARY:New Bus Stops for Service 991 along Brickland Road
DESCRIPTION:From Sunday\, 23 December 2018\, Bus Service 991 will serve a pair of new Bus Stops along Brickland Road. \n\n\n\nNew Bus Stops from 23 December 2018\n\n\nRoad Name\nBS Code\nBus Stop Description\nBus Service\n\nDestination\n\n\nBrickland Rd\n30101\nBlk 485B\n991\nBukit Batok\n\n\n30109\nOpp Blk 485A\n991\nChoa Chu Kang\n\n\n\n  \n\nOperator Poster\n        \n            \n            \n                \n                                            \n                                \n                                \n                                                                    \n                                        New Bus Stops along Brickland Road for Service 991
URL:https://landtransportguru.net/event/new-bus-stops-for-service-991-along-brickland-road/
CATEGORIES:New Bus Stops
ATTACH;FMTTYPE=image/jpeg:https://landtransportguru.net/web/wp-content/uploads/2018/07/1754-991.jpg
END:VEVENT
END:VCALENDAR