BEGIN:VCALENDAR
VERSION:2.0
PRODID:-//Land Transport Guru - ECPv6.15.20//NONSGML v1.0//EN
CALSCALE:GREGORIAN
METHOD:PUBLISH
X-ORIGINAL-URL:https://landtransportguru.net
X-WR-CALDESC:Events for Land Transport Guru
REFRESH-INTERVAL;VALUE=DURATION:PT1H
X-Robots-Tag:noindex
X-PUBLISHED-TTL:PT1H
BEGIN:VTIMEZONE
TZID:Asia/Shanghai
BEGIN:STANDARD
TZOFFSETFROM:+0800
TZOFFSETTO:+0800
TZNAME:CST
DTSTART:20250101T000000
END:STANDARD
END:VTIMEZONE
BEGIN:VEVENT
DTSTART;VALUE=DATE:20260524
DTEND;VALUE=DATE:20260526
DTSTAMP:20260426T033503
CREATED:20260420T030024Z
LAST-MODIFIED:20260420T144455Z
UID:150146-1779588000-1779674399@landtransportguru.net
SUMMARY:Route Extension for Service 965 to Buangkok & Amendment via WDL St 82
DESCRIPTION:From Sunday\, 24 May 2026\, Tower Transit Bus Service 965 will be converted to a bi-directional service & amended as follows: \n\nExtended from Sengkang to Buangkok Int\nvia Sengkang East Way\, Sengkang East Rd & Sengkang East Ave;\nAmended via Woodlands Ave 5\, Woodlands Ave 9\, Woodlands St 82 & Woodlands Ave 4\nskipping a section of Woodlands Ave 7\n\nAs such\, Short Trip Service 965A would be amended accordingly via Woodlands St 82 towards Yishun. Terminating trip 965T would likely cease operations\, with the last day of operations on Saturday 23 May 2026. \nThe daily first bus timing for Service 965 from Woodlands Temp Int will also be brought forward by 15 mins as follows: \n\n\n\n\nOperating Hours from Woodlands Temp Int\nWeekdays & Saturdays\nSundays / Public Holidays\n\n\ntill 23 May 2026\n05:30 – 22:40\n05:45 – 22:40\n\n\nAfter 22:40 – 23:30\, buses departing Woodlands Temp Int are renumbered as Service 965T which terminates at Sengkang Int\n\n\nfrom 24 May 2026\n05:15 – 23:30\n05:30 – 23:30\n\n\n\n\n\nPublicity Poster\n        \n            \n            \n                \n                                            \n                                \n                                \n                                                                    \n                                        Service 965 Route Amendment Poster to Buangkok Int & Woodlands St 82 [1/2]                                    \n                                                                                            \n                        \n                                            \n                                \n                                \n                                                                    \n                                        Service 965 Route Amendment Poster to Buangkok Int & Woodlands St 82 [2/2]
URL:https://landtransportguru.net/event/route-extension-965-buangkok/
CATEGORIES:Bus Service Changes
ATTACH;FMTTYPE=image/jpeg:https://landtransportguru.net/web/wp-content/uploads/2024/12/1540_965-1.jpg
END:VEVENT
BEGIN:VEVENT
DTSTART;VALUE=DATE:20260524
DTEND;VALUE=DATE:20260526
DTSTAMP:20260426T033503
CREATED:20260424T081520Z
LAST-MODIFIED:20260424T083059Z
UID:150225-1779588000-1779674399@landtransportguru.net
SUMMARY:New Bus Stop for Services 381\, 678 & 683 along Punggol East
DESCRIPTION:From Sunday\, 24 May 2026\, Go-Ahead Bus Services 381\, 678 & 683 will serve a new bus stop along Punggol East. \n\n\n\n\nNew Bus Stop from 24 May 2026 (Punggol East)\n\n\nRoad Name\nBus Stop Code\nDescription\nBus Service\nDestination\n\n\nPunggol East\n65791\nWaterway Pr Sch\n381\nPunggol\n\n\n678\nPunggol Ctrl (Blk 649)\n\n\n683\nMoulmein Rd (Revival Ctr Ch)\n\n\nPunggol Ctrl (Blk 649)\n\n\n\n\n  \n\nPublicity Poster\n        \n            \n            \n                \n                                            \n                                \n                                \n                                                                    \n                                        Poster for New Bus Stop (65791) along Punggol East                                    \n                                                                                            \n                        \n                                    \n                \n                \n            \n\n            \n                \n            \n\n            \n                \n                                            \n                            \n                        \n                                    \n            \n\n        \n        \n 
URL:https://landtransportguru.net/event/new-bs-65791/
CATEGORIES:New Bus Stops
ATTACH;FMTTYPE=image/jpeg:https://landtransportguru.net/web/wp-content/uploads/2017/02/PunggolEast_NewBS_2.jpg
END:VEVENT
END:VCALENDAR